BEGIN:VCALENDAR
VERSION:2.0
PRODID:icalendar-ruby
CALSCALE:GREGORIAN
BEGIN:VEVENT
DTSTAMP:20210122T074458Z
UID:63b56a6a-4152-4a36-876f-4fa71b510e2a
DTSTART;VALUE=DATE:20191016
DESCRIPTION:Property ID# 461970\, Time: 12:00PM
SUMMARY:Auction for 
END:VEVENT
END:VCALENDAR
