BEGIN:VCALENDAR
VERSION:2.0
PRODID:icalendar-ruby
CALSCALE:GREGORIAN
BEGIN:VEVENT
DTSTAMP:20210122T074300Z
UID:6a40847b-1955-4bf4-a859-7997481f707d
DTSTART;VALUE=DATE:20191128
DESCRIPTION:Property ID# 466228\, Locatoin: (unless sold prior) 251 High St
 reet\, Rangiora\, Time: 12:00PM
SUMMARY:Auction for 
END:VEVENT
END:VCALENDAR
