BEGIN:VCALENDAR
VERSION:2.0
PRODID:icalendar-ruby
CALSCALE:GREGORIAN
BEGIN:VEVENT
DTSTAMP:20210122T074152Z
UID:614562fc-cb92-4e4e-801f-40d9881bf5e1
DTSTART;VALUE=DATE:20191212
DESCRIPTION:Property ID# 467150\, Locatoin: (unless sold prior) 251 High St
 reet\, Rangiora\, Time: 12:00PM
SUMMARY:Auction for 
END:VEVENT
END:VCALENDAR
