BEGIN:VCALENDAR
VERSION:2.0
PRODID:icalendar-ruby
CALSCALE:GREGORIAN
BEGIN:VEVENT
DTSTAMP:20210122T074150Z
UID:1c80070b-e9f5-47da-87c2-6e98ccfeacf6
DTSTART;VALUE=DATE:20200214
DESCRIPTION:Property ID# 470059\, Locatoin: (unless sold prior) 251 High St
 reet\, Rangiora\, Time: 4:00PM
SUMMARY:Auction for 
END:VEVENT
END:VCALENDAR
