BEGIN:VCALENDAR
VERSION:2.0
PRODID:icalendar-ruby
CALSCALE:GREGORIAN
BEGIN:VEVENT
DTSTAMP:20210122T074149Z
UID:c2db4723-abca-445c-942e-843de26ccd34
DTSTART;VALUE=DATE:20200220
DESCRIPTION:Property ID# 472045\, Locatoin: 251 High Street\, Rangiora 7400
 \, Time: 4:00PM
SUMMARY:Auction for 
END:VEVENT
END:VCALENDAR
