BEGIN:VCALENDAR
VERSION:2.0
PRODID:icalendar-ruby
CALSCALE:GREGORIAN
BEGIN:VEVENT
DTSTAMP:20210122T074147Z
UID:d693f9e1-0c2d-4b07-a3cd-1ef6dd8aaf11
DTSTART;VALUE=DATE:20200312
DESCRIPTION:Property ID# 473614\, Locatoin: (unless sold prior) 251 High St
 reet\, Rangiora\, Time: 4:00PM
SUMMARY:Auction for 
END:VEVENT
END:VCALENDAR
