BEGIN:VCALENDAR
VERSION:2.0
PRODID:icalendar-ruby
CALSCALE:GREGORIAN
BEGIN:VEVENT
DTSTAMP:20210122T074128Z
UID:a249a424-1d7f-4ddb-bec9-92550b98ef92
DTSTART;VALUE=DATE:20200324
DESCRIPTION:Property ID# 474634\, Locatoin: Harcourts Papanui\, Time: 3:00P
 M
SUMMARY:Auction for 
END:VEVENT
END:VCALENDAR
