BEGIN:VCALENDAR
VERSION:2.0
PRODID:icalendar-ruby
CALSCALE:GREGORIAN
BEGIN:VEVENT
DTSTAMP:20210122T074144Z
UID:79ed7dc0-a0bf-41dd-95de-6bc6983bd865
DTSTART;VALUE=DATE:20200326
DESCRIPTION:Property ID# 475404\, Locatoin: (unless sold prior) 251 High St
 reet\, Rangiora\, Time: 4:00PM
SUMMARY:Auction for 
END:VEVENT
END:VCALENDAR
