BEGIN:VCALENDAR
VERSION:2.0
PRODID:icalendar-ruby
CALSCALE:GREGORIAN
BEGIN:VEVENT
DTSTAMP:20210122T074127Z
UID:c33e3eeb-2db3-4f41-b3ab-5639b3b770c9
DTSTART;VALUE=DATE:20200331
DESCRIPTION:Property ID# 475453\, Locatoin: Good real estate Papanui \, Tim
 e: 2:00PM
SUMMARY:Auction for 
END:VEVENT
END:VCALENDAR
