BEGIN:VCALENDAR
VERSION:2.0
PRODID:icalendar-ruby
CALSCALE:GREGORIAN
BEGIN:VEVENT
DTSTAMP:20210122T074125Z
UID:453a495e-79c4-4c28-8f3d-a375eed3024f
DTSTART;VALUE=DATE:20200729
DESCRIPTION:Property ID# 484465\, Time: 4:30PM
SUMMARY:Auction for 
END:VEVENT
END:VCALENDAR
