BEGIN:VCALENDAR
VERSION:2.0
PRODID:icalendar-ruby
CALSCALE:GREGORIAN
BEGIN:VEVENT
DTSTAMP:20210122T074135Z
UID:9216af8d-8358-4e37-af0b-0f4388910161
DTSTART;VALUE=DATE:20201111
DESCRIPTION:Property ID# 493260\, Locatoin: Onsite\, Time: 2:00PM
SUMMARY:Auction for 
END:VEVENT
END:VCALENDAR
