BEGIN:VCALENDAR
VERSION:2.0
PRODID:icalendar-ruby
CALSCALE:GREGORIAN
BEGIN:VEVENT
DTSTAMP:20210122T074124Z
UID:f168e94b-c71c-43cb-b177-4842dbbe026c
DTSTART;VALUE=DATE:20201118
DESCRIPTION:Property ID# 493837\, Locatoin: Gold auction rooms 471 Papanui 
 Road \, Time: 5:30PM
SUMMARY:Auction for 
END:VEVENT
END:VCALENDAR
