BEGIN:VCALENDAR
VERSION:2.0
PRODID:icalendar-ruby
CALSCALE:GREGORIAN
BEGIN:VEVENT
DTSTAMP:20210122T073501Z
UID:dffaa78a-d634-42ba-9146-0074cfee52da
DTSTART;VALUE=DATE:20201119
DESCRIPTION:Property ID# 493969\, Locatoin: (unless sold prior) 251 High St
 reet\, Rangiora\, Time: 4:00PM
SUMMARY:Auction for 22 Pahua St
END:VEVENT
END:VCALENDAR
