BEGIN:VCALENDAR
VERSION:2.0
PRODID:icalendar-ruby
CALSCALE:GREGORIAN
BEGIN:VEVENT
DTSTAMP:20210122T074142Z
UID:5d0c5af9-9ffd-4213-a4b0-f5f2f83375e8
DTSTART;VALUE=DATE:20201127
DESCRIPTION:Property ID# 494870\, Locatoin: (unless sold prior) 251 High St
 reet\, Rangiora\, Time: 4:00PM
SUMMARY:Auction for 
END:VEVENT
END:VCALENDAR
