BEGIN:VCALENDAR
VERSION:2.0
PRODID:icalendar-ruby
CALSCALE:GREGORIAN
BEGIN:VEVENT
DTSTAMP:20210122T074141Z
UID:e143a12f-9b62-4da9-ac81-cd70b5050cd3
DTSTART;VALUE=DATE:20201217
DESCRIPTION:Property ID# 497790\, Locatoin: (unless sold prior) 3 Deans Ave
 \, Christchurch \, Time: 12:00PM
SUMMARY:Auction for 
END:VEVENT
END:VCALENDAR
