BEGIN:VCALENDAR
VERSION:2.0
PRODID:icalendar-ruby
CALSCALE:GREGORIAN
BEGIN:VEVENT
DTSTAMP:20210122T073433Z
UID:70c9b9d1-ecdb-4dcd-989c-f9d812cdcc96
DTSTART;VALUE=DATE:20210122
DESCRIPTION:Property ID# 499074\, Time: 4:00PM
SUMMARY:Auction for 104 Infinity Drive
END:VEVENT
END:VCALENDAR
