BEGIN:VCALENDAR
VERSION:2.0
PRODID:icalendar-ruby
CALSCALE:GREGORIAN
BEGIN:VEVENT
DTSTAMP:20210122T073430Z
UID:15f0e953-9d5a-4c3e-afe4-51156decfe85
DTSTART;VALUE=DATE:20210129
DESCRIPTION:Property ID# 499237\, Time: 4:00PM
SUMMARY:Auction for 72 Mary Ellen Street
END:VEVENT
END:VCALENDAR
