BEGIN:VCALENDAR
VERSION:2.0
PRODID:icalendar-ruby
CALSCALE:GREGORIAN
BEGIN:VEVENT
DTSTAMP:20210122T073421Z
UID:75275a1b-2feb-45ab-8681-837b0038fc81
DTSTART;VALUE=DATE:20210216
DESCRIPTION:Property ID# 499431\, Locatoin: Harcourts Papanui\, Time: 3:00P
 M
SUMMARY:Auction for 2 Woodglen Drive
END:VEVENT
END:VCALENDAR
