BEGIN:VCALENDAR
VERSION:2.0
PRODID:icalendar-ruby
CALSCALE:GREGORIAN
BEGIN:VEVENT
DTSTAMP:20210122T074136Z
UID:f27c73c3-2142-4af0-959e-46bcd38d85ab
DTSTART;TZID=Pacific/Auckland:20210124T113000
DTEND;TZID=Pacific/Auckland:20210124T120000
DESCRIPTION:Property ID# 499333
SUMMARY:Openhome for 69 Douglas Road
END:VEVENT
END:VCALENDAR
