BEGIN:VCALENDAR
VERSION:2.0
PRODID:icalendar-ruby
CALSCALE:GREGORIAN
BEGIN:VEVENT
DTSTAMP:20210122T074133Z
UID:2428bc5e-abdc-4a5d-a24f-a1dfbd6d942f
DTSTART;TZID=Pacific/Auckland:20210123T131500
DTEND;TZID=Pacific/Auckland:20210123T134500
DESCRIPTION:Property ID# 499965
SUMMARY:Openhome for 14 Mill Road
END:VEVENT
END:VCALENDAR
