BEGIN:VCALENDAR
VERSION:2.0
PRODID:icalendar-ruby
CALSCALE:GREGORIAN
BEGIN:VEVENT
DTSTAMP:20210122T074132Z
UID:ae4fa1de-991c-425e-af20-5ee8a2a81810
DTSTART;TZID=Pacific/Auckland:20210123T110000
DTEND;TZID=Pacific/Auckland:20210123T113000
DESCRIPTION:Property ID# 499674
SUMMARY:Openhome for 86 Sutherland Drive
END:VEVENT
END:VCALENDAR
