BEGIN:VCALENDAR
VERSION:2.0
PRODID:icalendar-ruby
CALSCALE:GREGORIAN
BEGIN:VEVENT
DTSTAMP:20210122T073420Z
UID:d9a00e40-e1cd-4527-aca5-2c112439bc77
DTSTART;TZID=Pacific/Auckland:20210124T133000
DTEND;TZID=Pacific/Auckland:20210124T143000
DESCRIPTION:Property ID# 499431
SUMMARY:Openhome for 2 Woodglen Drive
END:VEVENT
END:VCALENDAR
