BEGIN:VCALENDAR
VERSION:2.0
PRODID:icalendar-ruby
CALSCALE:GREGORIAN
BEGIN:VEVENT
DTSTAMP:20260419T223021Z
UID:c96b0581-608e-48ad-a508-0df006b434c6
DTSTART;VALUE=DATE:20251113
DESCRIPTION:Property ID# 598661\, Time: 1:00PM
SUMMARY:Auction for 132 Egans Road
END:VEVENT
END:VCALENDAR
