BEGIN:VCALENDAR
VERSION:2.0
PRODID:icalendar-ruby
CALSCALE:GREGORIAN
BEGIN:VEVENT
DTSTAMP:20260421T165232Z
UID:2d371ffd-0951-48c4-9110-54b18b6f3f19
DTSTART;VALUE=DATE:20260430
DESCRIPTION:Property ID# 606255\, Time: 12:00PM
SUMMARY:Auction for 12 Cashmere Road
END:VEVENT
END:VCALENDAR
