BEGIN:VCALENDAR
VERSION:2.0
PRODID:icalendar-ruby
CALSCALE:GREGORIAN
BEGIN:VEVENT
DTSTAMP:20260421T165241Z
UID:19c0014f-c7c6-457f-8b2f-132a77a82a51
DTSTART;TZID=Pacific/Auckland:20260503T103000
DTEND;TZID=Pacific/Auckland:20260503T110000
DESCRIPTION:Property ID# 605470
SUMMARY:Openhome for 365 Terrace Road
END:VEVENT
END:VCALENDAR
