BEGIN:VCALENDAR
VERSION:2.0
PRODID:icalendar-ruby
CALSCALE:GREGORIAN
BEGIN:VEVENT
DTSTAMP:20260421T165458Z
UID:862414a8-0fa2-49c9-b68f-68026f510397
DTSTART;TZID=Pacific/Auckland:20260426T140000
DTEND;TZID=Pacific/Auckland:20260426T143000
DESCRIPTION:Property ID# 605814
SUMMARY:Openhome for 51 Station Road
END:VEVENT
END:VCALENDAR
