BEGIN:VCALENDAR
VERSION:2.0
PRODID:icalendar-ruby
CALSCALE:GREGORIAN
BEGIN:VEVENT
DTSTAMP:20260421T164629Z
UID:35028fcd-a339-4ee9-8dcc-8f1f1b77e5c0
DTSTART;TZID=Pacific/Auckland:20260426T140000
DTEND;TZID=Pacific/Auckland:20260426T143000
DESCRIPTION:Property ID# 606254
SUMMARY:Openhome for 4 Holcroft Court
END:VEVENT
END:VCALENDAR
