BEGIN:VCALENDAR
VERSION:2.0
PRODID:icalendar-ruby
CALSCALE:GREGORIAN
BEGIN:VEVENT
DTSTAMP:20260421T164612Z
UID:4db64aa1-1fac-4a97-b72b-b3984cf64104
DTSTART;TZID=Pacific/Auckland:20260426T150000
DTEND;TZID=Pacific/Auckland:20260426T153000
DESCRIPTION:Property ID# 606800
SUMMARY:Openhome for 3 Kowai Place
END:VEVENT
END:VCALENDAR
